BEGIN:VCALENDAR
VERSION:2.0
PRODID:-//Plone.org//NONSGML plone.app.event//EN
X-WR-TIMEZONE:Europe/Madrid
BEGIN:VEVENT
SUMMARY:Reunió amb un veí de Canet
DTSTART;TZID=Europe/Madrid;VALUE=DATE-TIME:20251126T000000
DTEND;TZID=Europe/Madrid;VALUE=DATE-TIME:20251126T010000
DTSTAMP;VALUE=DATE-TIME:20260419T212829Z
UID:4003d5d202c325e7d9e00b4c16f48de6
CREATED;VALUE=DATE-TIME:20251126T000000Z
CATEGORIES:Agenda institucional
LOCATION:Despatx de l'alcaldia
URL:https://www.canetdemar.cat/document.php?id=28787
END:VEVENT
END:VCALENDAR