BEGIN:VCALENDAR
VERSION:2.0
PRODID:-//Plone.org//NONSGML plone.app.event//EN
X-WR-TIMEZONE:Europe/Madrid
BEGIN:VEVENT
SUMMARY:Reunió amb una representació de veïnes i veïns de l'Avinguda Maresme
DTSTART;TZID=Europe/Madrid;VALUE=DATE-TIME:20251124T130000
DTEND;TZID=Europe/Madrid;VALUE=DATE-TIME:20251124T140000
DTSTAMP;VALUE=DATE-TIME:20260419T212843Z
UID:7e1dc6b852c0e00f53f03c0008c77a77
CREATED;VALUE=DATE-TIME:20251124T000000Z
CATEGORIES:Agenda institucional
LOCATION:Sala annexa Alcaldia
URL:https://www.canetdemar.cat/document.php?id=28784
END:VEVENT
END:VCALENDAR