BEGIN:VCALENDAR
VERSION:2.0
PRODID:-//Plone.org//NONSGML plone.app.event//EN
X-WR-TIMEZONE:Europe/Madrid
BEGIN:VEVENT
SUMMARY:2a Calçotada de l'Esplai Bitxus
DTSTART;TZID=Europe/Madrid;VALUE=DATE-TIME:20260125T120000
DTEND;TZID=Europe/Madrid;VALUE=DATE-TIME:20260125T130000
DTSTAMP;VALUE=DATE-TIME:20260423T033743Z
UID:75e6eddb48d40183c26bed0f14c60825
CREATED;VALUE=DATE-TIME:20260125T000000Z
CATEGORIES:Festa,Música
LOCATION:Plaça Universitat
ORGANIZER:Esplai Bitxus
COMMENT:Preu: 12,50&euro; Entrada anticipada a Entrapolis
DESCRIPTION:Amb actuacions musicals.
URL:https://www.canetdemar.cat/document.php?id=28773
END:VEVENT
END:VCALENDAR