BEGIN:VCALENDAR
VERSION:2.0
PRODID:-//Plone.org//NONSGML plone.app.event//EN
X-WR-TIMEZONE:Europe/Madrid
BEGIN:VEVENT
SUMMARY:Club de Lectura Molteslletres. Gomet vermell
DTSTART;TZID=Europe/Madrid;VALUE=DATE-TIME:20260210T173000
DTEND;TZID=Europe/Madrid;VALUE=DATE-TIME:20260210T183000
DTSTAMP;VALUE=DATE-TIME:20260425T191622Z
UID:4bdd1d3f989c7d9420b9fda4c7a8480a
CREATED;VALUE=DATE-TIME:20260210T000000Z
CATEGORIES:Infantils
LOCATION:Biblioteca P. Gual i Pujadas
ORGANIZER:Biblioteca P. Gual i Pujadas
COMMENT:Preu: Gratuït
DESCRIPTION:Irene la valenta de William Steig
URL:https://www.canetdemar.cat/document.php?id=28752
END:VEVENT
END:VCALENDAR