BEGIN:VCALENDAR
VERSION:2.0
PRODID:-//Plone.org//NONSGML plone.app.event//EN
X-WR-TIMEZONE:Europe/Madrid
BEGIN:VEVENT
SUMMARY:Més enllà del blanc de Rosa Panadès i Miquel Duran
DTSTART;TZID=Europe/Madrid;VALUE=DATE-TIME:20260206T180000
DTEND;TZID=Europe/Madrid;VALUE=DATE-TIME:20260206T190000
DTSTAMP;VALUE=DATE-TIME:20260422T153342Z
UID:4fe1557972bded2b7c0108cf06b314f1
CREATED;VALUE=DATE-TIME:20260206T000000Z
LOCATION:Biblioteca P. Gual i Pujadas
ORGANIZER:Biblioteca P. Gual i Pujadas /Sàlvia associació de dones
COMMENT:Preu: Gratuït
DESCRIPTION:Presentació del llibre a càrrec de Roser Carbonell
URL:https://www.canetdemar.cat/document.php?id=28751
END:VEVENT
END:VCALENDAR