BEGIN:VCALENDAR
VERSION:2.0
PRODID:-//Plone.org//NONSGML plone.app.event//EN
X-WR-TIMEZONE:Europe/Madrid
BEGIN:VEVENT
SUMMARY:Teixim fils de memòria
DTSTART;TZID=Europe/Madrid;VALUE=DATE-TIME:20260116T183000
DTEND;TZID=Europe/Madrid;VALUE=DATE-TIME:20260116T193000
DTSTAMP;VALUE=DATE-TIME:20260425T210922Z
UID:48f223de37027cb65c0ddc08810b1052
CREATED;VALUE=DATE-TIME:20260116T000000Z
CATEGORIES:Conferència
LOCATION:Sala Cultural Ramon de Capmany
ORGANIZER:Plataforma per la Llengua.
COMMENT:Preu: De franc.
DESCRIPTION:Carles Saiz, "El paper de la dona en el passat tèxtil de Canet". Sílvia Alcàntara, autora de la novel·la "Olor de colònia", en conversa amb Clara Palomero.
URL:https://www.canetdemar.cat/document.php?id=28717
END:VEVENT
END:VCALENDAR