BEGIN:VCALENDAR
VERSION:2.0
PRODID:-//Plone.org//NONSGML plone.app.event//EN
X-WR-TIMEZONE:Europe/Madrid
BEGIN:VEVENT
SUMMARY:Club de Lectura Molteslleltres. Gomet vermell
DTSTART;TZID=Europe/Madrid;VALUE=DATE-TIME:20260113T173000
DTEND;TZID=Europe/Madrid;VALUE=DATE-TIME:20260113T183000
DTSTAMP;VALUE=DATE-TIME:20260426T001204Z
UID:f482aad9106fd92fba5d529dfe5d15e1
CREATED;VALUE=DATE-TIME:20260113T000000Z
CATEGORIES:Infantils
LOCATION:Biblioteca P. Gual i Pujadas
ORGANIZER:Biblioteca P. Gual i Pujadas
COMMENT:Preu: Gratuït
DESCRIPTION:Em dic Aran i m'encanta escriure, de Jaume Cela
URL:https://www.canetdemar.cat/document.php?id=28710
END:VEVENT
END:VCALENDAR