BEGIN:VCALENDAR
VERSION:2.0
PRODID:-//Plone.org//NONSGML plone.app.event//EN
X-WR-TIMEZONE:Europe/Madrid
BEGIN:VEVENT
SUMMARY:Reunió per preparar la Mostra d'Entitats
DTSTART;TZID=Europe/Madrid;VALUE=DATE-TIME:20070227T190000
DTEND;TZID=Europe/Madrid;VALUE=DATE-TIME:20070227T200000
DTSTAMP;VALUE=DATE-TIME:20260422T145009Z
UID:257c79b01b613a7cd350f9aba46a2037
CREATED;VALUE=DATE-TIME:20070227T000000Z
LOCATION:Aula Magna Escola Universitària de Teixits de Punt
ORGANIZER:Àrea de Cultura
URL:https://www.canetdemar.cat/document.php?id=2868
END:VEVENT
END:VCALENDAR