BEGIN:VCALENDAR
VERSION:2.0
PRODID:-//Plone.org//NONSGML plone.app.event//EN
X-WR-TIMEZONE:Europe/Madrid
BEGIN:VEVENT
SUMMARY:Inici d'obres del futur teatre municipal, l'Odèon
DTSTART;TZID=Europe/Madrid;VALUE=DATE-TIME:20070225T000000
DTEND;TZID=Europe/Madrid;VALUE=DATE-TIME:20070225T010000
DTSTAMP;VALUE=DATE-TIME:20260425T054201Z
UID:e854d1234fea808d4f00ab2d3537c65e
CREATED;VALUE=DATE-TIME:20070225T000000Z
URL:https://www.canetdemar.cat/document.php?id=2867
END:VEVENT
END:VCALENDAR