BEGIN:VCALENDAR
VERSION:2.0
PRODID:-//Plone.org//NONSGML plone.app.event//EN
X-WR-TIMEZONE:Europe/Madrid
BEGIN:VEVENT
SUMMARY:Strafalari
DTSTART;TZID=Europe/Madrid;VALUE=DATE-TIME:20260606T200000
DTEND;TZID=Europe/Madrid;VALUE=DATE-TIME:20260606T210000
DTSTAMP;VALUE=DATE-TIME:20260425T205051Z
UID:95eaa85c1c053a3bcbdff3c504cbc2be
CREATED;VALUE=DATE-TIME:20260606T000000Z
CATEGORIES:Infantils,Teatre
LOCATION:Sala Odèon del TMC - Plaça 1 d'octubre
ORGANIZER:TMC
COMMENT:Preu: Taquilla: 25&euro;. Bonificada: 23 &euro;
Durada: 90 minuts
DESCRIPTION:El Mag Lari per a tots els públics
URL:https://www.canetdemar.cat/document.php?id=28665
END:VEVENT
END:VCALENDAR