BEGIN:VCALENDAR
VERSION:2.0
PRODID:-//Plone.org//NONSGML plone.app.event//EN
X-WR-TIMEZONE:Europe/Madrid
BEGIN:VEVENT
SUMMARY:L'hora del conte: La nuvolina
DTSTART;TZID=Europe/Madrid;VALUE=DATE-TIME:20070224T120000
DTEND;TZID=Europe/Madrid;VALUE=DATE-TIME:20070224T130000
DTSTAMP;VALUE=DATE-TIME:20260423T050513Z
UID:ab1fdcdece36272d6f847296993cfd12
CREATED;VALUE=DATE-TIME:20070224T000000Z
CATEGORIES:Infantils
LOCATION:Biblioteca
DESCRIPTION:A càrrec d'Elisa Mostazo
URL:https://www.canetdemar.cat/document.php?id=2866
END:VEVENT
END:VCALENDAR