BEGIN:VCALENDAR
VERSION:2.0
PRODID:-//Plone.org//NONSGML plone.app.event//EN
X-WR-TIMEZONE:Europe/Madrid
BEGIN:VEVENT
SUMMARY:MusicalOdèon
DTSTART;TZID=Europe/Madrid;VALUE=DATE-TIME:20260220T000000
DTEND;TZID=Europe/Madrid;VALUE=DATE-TIME:20260220T010000
DTSTAMP;VALUE=DATE-TIME:20260423T064131Z
UID:5760f3e22b92109eaa9e5f51befc7382
CREATED;VALUE=DATE-TIME:20260220T000000Z
CATEGORIES:Música
LOCATION:Sala Odèon del TMC - Plaça 1 d
ORGANIZER:TMC
COMMENT:Preu: Taquilla: 15 &euro;. Bonificada: 13 &euro;
Durada: 80 minuts
DESCRIPTION:Matthew Simon Quartet
URL:https://www.canetdemar.cat/document.php?id=28656
END:VEVENT
END:VCALENDAR