BEGIN:VCALENDAR
VERSION:2.0
PRODID:-//Plone.org//NONSGML plone.app.event//EN
X-WR-TIMEZONE:Europe/Madrid
BEGIN:VEVENT
SUMMARY:La música dels llibres
DTSTART;TZID=Europe/Madrid;VALUE=DATE-TIME:20070223T200000
DTEND;TZID=Europe/Madrid;VALUE=DATE-TIME:20070223T210000
DTSTAMP;VALUE=DATE-TIME:20260423T101330Z
UID:ef4c6aeb0bbf73c2ec38df14d2c54b7c
CREATED;VALUE=DATE-TIME:20070223T000000Z
LOCATION:Biblioteca
ORGANIZER:Escola de Música i Biblioteca P.Gual i Pujadas
DESCRIPTION:A càrrec de la professora Mª del Mar Correu
URL:https://www.canetdemar.cat/document.php?id=2865
END:VEVENT
END:VCALENDAR