BEGIN:VCALENDAR
VERSION:2.0
PRODID:-//Plone.org//NONSGML plone.app.event//EN
X-WR-TIMEZONE:Europe/Madrid
BEGIN:VEVENT
SUMMARY:El ratolí que escombrava l'escaleta amb l'Aïda puig
DTSTART;TZID=Europe/Madrid;VALUE=DATE-TIME:20260109T173000
DTEND;TZID=Europe/Madrid;VALUE=DATE-TIME:20260109T183000
DTSTAMP;VALUE=DATE-TIME:20260421T150824Z
UID:9eb51e02277cfc68f88ed9870263b758
CREATED;VALUE=DATE-TIME:20260109T000000Z
CATEGORIES:Infantils
LOCATION:Biblioteca P. Gual i Pujadas
ORGANIZER:Biblioteca P. Gual i Pujadas
COMMENT:Preu: Gratuït
DESCRIPTION:Hora del conte
URL:https://www.canetdemar.cat/document.php?id=28619
END:VEVENT
END:VCALENDAR