BEGIN:VCALENDAR
VERSION:2.0
PRODID:-//Plone.org//NONSGML plone.app.event//EN
X-WR-TIMEZONE:Europe/Madrid
BEGIN:VEVENT
SUMMARY:Documental del mes
DTSTART;TZID=Europe/Madrid;VALUE=DATE-TIME:20070202T213000
DTEND;TZID=Europe/Madrid;VALUE=DATE-TIME:20070202T223000
DTSTAMP;VALUE=DATE-TIME:20260425T004332Z
UID:a2d49c0d8eb0a54e2d617ea2f37f1f54
CREATED;VALUE=DATE-TIME:20070202T000000Z
LOCATION:Aula Magna Escola Universitària de Teixits de Punt
ORGANIZER:
ACPO

COMMENT:Preu: Entrada gratuïta
DESCRIPTION:Tintin et moi
URL:https://www.canetdemar.cat/document.php?id=2857
END:VEVENT
END:VCALENDAR