BEGIN:VCALENDAR
VERSION:2.0
PRODID:-//Plone.org//NONSGML plone.app.event//EN
X-WR-TIMEZONE:Europe/Madrid
BEGIN:VEVENT
SUMMARY:Arribada del Missatger Reial
DTSTART;TZID=Europe/Madrid;VALUE=DATE-TIME:20251227T113000
DTEND;TZID=Europe/Madrid;VALUE=DATE-TIME:20251227T123000
DTSTAMP;VALUE=DATE-TIME:20260424T225334Z
UID:ea302a226c148d4e709f1288be6c4107
CREATED;VALUE=DATE-TIME:20251227T000000Z
CATEGORIES:Infantils
LOCATION:Plaça 11 de Setembre
ORGANIZER:Colla de Reis i Àrea de Festes
DESCRIPTION:FESTES DE NADAL, CAP D'ANY I REIS
URL:https://www.canetdemar.cat/document.php?id=28552
END:VEVENT
END:VCALENDAR