BEGIN:VCALENDAR
VERSION:2.0
PRODID:-//Plone.org//NONSGML plone.app.event//EN
X-WR-TIMEZONE:Europe/Madrid
BEGIN:VEVENT
SUMMARY:Cantada de Nadales
DTSTART;TZID=Europe/Madrid;VALUE=DATE-TIME:20251225T120000
DTEND;TZID=Europe/Madrid;VALUE=DATE-TIME:20251225T130000
DTSTAMP;VALUE=DATE-TIME:20260423T152934Z
UID:f7d814f2692eb0601680e39b3fb80a2a
CREATED;VALUE=DATE-TIME:20251225T000000Z
CATEGORIES:Música
LOCATION:Església Parroquial de Canet de Mar
ORGANIZER:Escola de Música
DESCRIPTION:FESTES DE NADAL, CAP D'ANY I REIS
URL:https://www.canetdemar.cat/document.php?id=28550
END:VEVENT
END:VCALENDAR