BEGIN:VCALENDAR
VERSION:2.0
PRODID:-//Plone.org//NONSGML plone.app.event//EN
X-WR-TIMEZONE:Europe/Madrid
BEGIN:VEVENT
SUMMARY:Revetlla Popular &OpenCurlyDoubleQuote;Per Nadal un bon sidral&CloseCurlyDoubleQuote;
DTSTART;TZID=Europe/Madrid;VALUE=DATE-TIME:20251224T235500
DTEND;TZID=Europe/Madrid;VALUE=DATE-TIME:20251225T005500
DTSTAMP;VALUE=DATE-TIME:20260423T222248Z
UID:665d90e7195399b2df9cc6dcf86d0258
CREATED;VALUE=DATE-TIME:20251224T000000Z
CATEGORIES:Festa,Música
LOCATION:Envelat de Vil·la Flora - Plaça de l'Església
ORGANIZER:Àrea de Joventut i Entitats juvenils
DESCRIPTION:FESTES DE NADAL, CAP D'ANY I REIS
URL:https://www.canetdemar.cat/document.php?id=28549
END:VEVENT
END:VCALENDAR