BEGIN:VCALENDAR
VERSION:2.0
PRODID:-//Plone.org//NONSGML plone.app.event//EN
X-WR-TIMEZONE:Europe/Madrid
BEGIN:VEVENT
SUMMARY:Mostra d'Artesania de Nadal
DTSTART;TZID=Europe/Madrid;VALUE=DATE-TIME:20251221T100000
DTEND;TZID=Europe/Madrid;VALUE=DATE-TIME:20251221T110000
DTSTAMP;VALUE=DATE-TIME:20260424T211547Z
UID:fb364190a34d1785f5285a7a13be7219
CREATED;VALUE=DATE-TIME:20251220T000000Z
CATEGORIES:Mostra
LOCATION:Riera Sant Domènec i C. Ample
ORGANIZER:Àrea Promoció Econòmica i Associació Cultural Mares Malabaristes
COMMENT:Durada: Dissabte 20 de desembre, de 10h a 20:30h Diumenge 21 de desembre, de 10h a 15h
DESCRIPTION:FESTES DE NADAL, CAP D'ANY I REIS
URL:https://www.canetdemar.cat/document.php?id=28541
END:VEVENT
END:VCALENDAR