BEGIN:VCALENDAR
VERSION:2.0
PRODID:-//Plone.org//NONSGML plone.app.event//EN
X-WR-TIMEZONE:Europe/Madrid
BEGIN:VEVENT
SUMMARY:visita institucional a les residències de gent gran de Canet
DTSTART;TZID=Europe/Madrid;VALUE=DATE-TIME:20251223T000000
DTEND;TZID=Europe/Madrid;VALUE=DATE-TIME:20251223T010000
DTSTAMP;VALUE=DATE-TIME:20260426T031939Z
UID:e228e0945555c8526b096f63701cb75e
CREATED;VALUE=DATE-TIME:20251223T000000Z
COMMENT:Durada: Dies 17, 22 i 23 de desembre
DESCRIPTION:Residències Sant Roc i Miramar, Residència CDM i Residència Guillem Mas
URL:https://www.canetdemar.cat/document.php?id=28532
END:VEVENT
END:VCALENDAR