BEGIN:VCALENDAR
VERSION:2.0
PRODID:-//Plone.org//NONSGML plone.app.event//EN
X-WR-TIMEZONE:Europe/Madrid
BEGIN:VEVENT
SUMMARY:El Pessebre Vivent
DTSTART;TZID=Europe/Madrid;VALUE=DATE-TIME:20251214T173000
DTEND;TZID=Europe/Madrid;VALUE=DATE-TIME:20251214T183000
DTSTAMP;VALUE=DATE-TIME:20260424T094334Z
UID:39e2827ccfbc1521d16d6feaba2b14df
CREATED;VALUE=DATE-TIME:20251214T000000Z
CATEGORIES:Teatre
LOCATION:Al TMC Centru pati, Plaça de l'Església i Plaça 1 d'octubre
ORGANIZER:Àrea de Cultura i Associació Artística Teatral El Centru
DESCRIPTION:FESTES DE NADAL, CAP D'ANY I REIS
URL:https://www.canetdemar.cat/document.php?id=28529
END:VEVENT
END:VCALENDAR