BEGIN:VCALENDAR
VERSION:2.0
PRODID:-//Plone.org//NONSGML plone.app.event//EN
X-WR-TIMEZONE:Europe/Madrid
BEGIN:VEVENT
SUMMARY:Audició d'alumnes de corda i piano
DTSTART;TZID=Europe/Madrid;VALUE=DATE-TIME:20251210T180000
DTEND;TZID=Europe/Madrid;VALUE=DATE-TIME:20251210T190000
DTSTAMP;VALUE=DATE-TIME:20260421T130712Z
UID:60bd2cc44e6a616e157cfb8c189c470a
CREATED;VALUE=DATE-TIME:20251210T000000Z
CATEGORIES:Música
LOCATION:Biblioteca P. Gual i Pujadas
ORGANIZER:Àrea de Promoció Econòmica
DESCRIPTION:FESTES DE NADAL, CAP D'ANY I REIS
URL:https://www.canetdemar.cat/document.php?id=28522
END:VEVENT
END:VCALENDAR