BEGIN:VCALENDAR
VERSION:2.0
PRODID:-//Plone.org//NONSGML plone.app.event//EN
X-WR-TIMEZONE:Europe/Madrid
BEGIN:VEVENT
SUMMARY:Com em vaig escapar de la presó de Venècia, de Giacomo Casanova
DTSTART;TZID=Europe/Madrid;VALUE=DATE-TIME:20251219T163000
DTEND;TZID=Europe/Madrid;VALUE=DATE-TIME:20251219T173000
DTSTAMP;VALUE=DATE-TIME:20260423T103224Z
UID:173fc3d8f8f3004c3c9204b075767388
CREATED;VALUE=DATE-TIME:20251219T000000Z
CATEGORIES:Literatura
LOCATION:Biblioteca P. Gual i Pujadas
ORGANIZER:Biblioteca P. Gual i Pujadas
COMMENT:Preu: Gratuït
DESCRIPTION:Club de Lectura
URL:https://www.canetdemar.cat/document.php?id=28514
END:VEVENT
END:VCALENDAR