BEGIN:VCALENDAR
VERSION:2.0
PRODID:-//Plone.org//NONSGML plone.app.event//EN
X-WR-TIMEZONE:Europe/Madrid
BEGIN:VEVENT
SUMMARY:Mostra Literària del Maresme
DTSTART;TZID=Europe/Madrid;VALUE=DATE-TIME:20251123T100000
DTEND;TZID=Europe/Madrid;VALUE=DATE-TIME:20251123T110000
DTSTAMP;VALUE=DATE-TIME:20260424T034145Z
UID:53501bf49cd7a2801eeeaa874c4f871a
CREATED;VALUE=DATE-TIME:20251123T000000Z
CATEGORIES:Agenda institucional
URL:https://www.canetdemar.cat/document.php?id=28503
END:VEVENT
END:VCALENDAR