BEGIN:VCALENDAR
VERSION:2.0
PRODID:-//Plone.org//NONSGML plone.app.event//EN
X-WR-TIMEZONE:Europe/Madrid
BEGIN:VEVENT
SUMMARY:Taller d'ús del canal digital per a les entitats
DTSTART;TZID=Europe/Madrid;VALUE=DATE-TIME:20251125T170000
DTEND;TZID=Europe/Madrid;VALUE=DATE-TIME:20251125T180000
DTSTAMP;VALUE=DATE-TIME:20260422T073320Z
UID:4ab10f995dd426e30f458ef0bc5073ba
CREATED;VALUE=DATE-TIME:20251125T000000Z
CATEGORIES:Cursos
LOCATION:En línia
ORGANIZER:Àrea de Participació Ciutadana
COMMENT:Preu: Gratuït
Durada: De 17 a 18.30 h. Taller de tres hores dividit en dues sessions d´hora i mitja
URL:https://www.canetdemar.cat/document.php?id=28428
END:VEVENT
END:VCALENDAR