BEGIN:VCALENDAR
VERSION:2.0
PRODID:-//Plone.org//NONSGML plone.app.event//EN
X-WR-TIMEZONE:Europe/Madrid
BEGIN:VEVENT
SUMMARY:Reunió amb noves empreses de Canet
DTSTART;TZID=Europe/Madrid;VALUE=DATE-TIME:20251016T110000
DTEND;TZID=Europe/Madrid;VALUE=DATE-TIME:20251016T120000
DTSTAMP;VALUE=DATE-TIME:20260423T153554Z
UID:e61a6ead9d2e4de742d64e85686389bf
CREATED;VALUE=DATE-TIME:20251016T000000Z
CATEGORIES:Agenda institucional
URL:https://www.canetdemar.cat/document.php?id=28412
END:VEVENT
END:VCALENDAR