BEGIN:VCALENDAR
VERSION:2.0
PRODID:-//Plone.org//NONSGML plone.app.event//EN
X-WR-TIMEZONE:Europe/Madrid
BEGIN:VEVENT
SUMMARY:Assistència Passejada institucional per la Fira Modernista
DTSTART;TZID=Europe/Madrid;VALUE=DATE-TIME:20251004T100000
DTEND;TZID=Europe/Madrid;VALUE=DATE-TIME:20251004T110000
DTSTAMP;VALUE=DATE-TIME:20260423T034723Z
UID:57f5c0f9dc73acc22c4764cf25a47427
CREATED;VALUE=DATE-TIME:20251004T000000Z
CATEGORIES:Agenda institucional
LOCATION:Porta principal de l'Ajuntament
URL:https://www.canetdemar.cat/document.php?id=28410
END:VEVENT
END:VCALENDAR