BEGIN:VCALENDAR
VERSION:2.0
PRODID:-//Plone.org//NONSGML plone.app.event//EN
X-WR-TIMEZONE:Europe/Madrid
BEGIN:VEVENT
SUMMARY:Assistència a Can Muní
DTSTART;TZID=Europe/Madrid;VALUE=DATE-TIME:20250929T120000
DTEND;TZID=Europe/Madrid;VALUE=DATE-TIME:20250929T130000
DTSTAMP;VALUE=DATE-TIME:20260424T144002Z
UID:ca24bb8b12a6c46ec7172901c905ee0f
CREATED;VALUE=DATE-TIME:20250929T000000Z
CATEGORIES:Agenda institucional
URL:https://www.canetdemar.cat/document.php?id=28408
END:VEVENT
END:VCALENDAR