BEGIN:VCALENDAR
VERSION:2.0
PRODID:-//Plone.org//NONSGML plone.app.event//EN
X-WR-TIMEZONE:Europe/Madrid
BEGIN:VEVENT
SUMMARY:Assistència a la Presentació de Crims
DTSTART;TZID=Europe/Madrid;VALUE=DATE-TIME:20251101T183000
DTEND;TZID=Europe/Madrid;VALUE=DATE-TIME:20251101T193000
DTSTAMP;VALUE=DATE-TIME:20260426T014854Z
UID:5f9a1cc7cee8ee46d857ae77aa7991cb
CREATED;VALUE=DATE-TIME:20251101T000000Z
CATEGORIES:Agenda institucional
LOCATION:Jardins de la Vil·la Flora
URL:https://www.canetdemar.cat/document.php?id=28394
END:VEVENT
END:VCALENDAR