BEGIN:VCALENDAR
VERSION:2.0
PRODID:-//Plone.org//NONSGML plone.app.event//EN
X-WR-TIMEZONE:Europe/Madrid
BEGIN:VEVENT
SUMMARY:Reunió amb una empresa de Canet
DTSTART;TZID=Europe/Madrid;VALUE=DATE-TIME:20251031T103000
DTEND;TZID=Europe/Madrid;VALUE=DATE-TIME:20251031T113000
DTSTAMP;VALUE=DATE-TIME:20260424T231813Z
UID:cf1c7383877f181fea40f499fbea5d7a
CREATED;VALUE=DATE-TIME:20251031T000000Z
CATEGORIES:Agenda institucional
LOCATION:Sala de juntes
URL:https://www.canetdemar.cat/document.php?id=28391
END:VEVENT
END:VCALENDAR