BEGIN:VCALENDAR
VERSION:2.0
PRODID:-//Plone.org//NONSGML plone.app.event//EN
X-WR-TIMEZONE:Europe/Madrid
BEGIN:VEVENT
SUMMARY:Conferència: La conducta dels adolescents
DTSTART;TZID=Europe/Madrid;VALUE=DATE-TIME:20070228T190000
DTEND;TZID=Europe/Madrid;VALUE=DATE-TIME:20070228T200000
DTSTAMP;VALUE=DATE-TIME:20260422T125726Z
UID:6aabad36c8974fd1d8df4abac169b269
CREATED;VALUE=DATE-TIME:20070228T000000Z
CATEGORIES:Conferència
LOCATION:Aula Magna Escola Universitària de Teixits de Punt
ORGANIZER:Sàlvia, associació de dones
COMMENT:Preu: gratuït
Durada: 2 hores aprox.
URL:https://www.canetdemar.cat/document.php?id=2839
END:VEVENT
END:VCALENDAR