BEGIN:VCALENDAR
VERSION:2.0
PRODID:-//Plone.org//NONSGML plone.app.event//EN
X-WR-TIMEZONE:Europe/Madrid
BEGIN:VEVENT
SUMMARY:Reunió veïns
DTSTART;TZID=Europe/Madrid;VALUE=DATE-TIME:20251028T160000
DTEND;TZID=Europe/Madrid;VALUE=DATE-TIME:20251028T170000
DTSTAMP;VALUE=DATE-TIME:20260424T182727Z
UID:a0b26c49df0b1d1754974685e63a98fa
CREATED;VALUE=DATE-TIME:20251028T000000Z
CATEGORIES:Agenda institucional
URL:https://www.canetdemar.cat/document.php?id=28388
END:VEVENT
END:VCALENDAR