BEGIN:VCALENDAR
VERSION:2.0
PRODID:-//Plone.org//NONSGML plone.app.event//EN
X-WR-TIMEZONE:Europe/Madrid
BEGIN:VEVENT
SUMMARY:Reunió amb un veí de Canet
DTSTART;TZID=Europe/Madrid;VALUE=DATE-TIME:20251028T100000
DTEND;TZID=Europe/Madrid;VALUE=DATE-TIME:20251028T110000
DTSTAMP;VALUE=DATE-TIME:20260421T230829Z
UID:242e251acef565d87ddfc79a923bf34b
CREATED;VALUE=DATE-TIME:20251028T000000Z
CATEGORIES:Agenda institucional
URL:https://www.canetdemar.cat/document.php?id=28387
END:VEVENT
END:VCALENDAR