BEGIN:VCALENDAR
VERSION:2.0
PRODID:-//Plone.org//NONSGML plone.app.event//EN
X-WR-TIMEZONE:Europe/Madrid
BEGIN:VEVENT
SUMMARY:Reunió Fundació Els Garrofers
DTSTART;TZID=Europe/Madrid;VALUE=DATE-TIME:20251027T113000
DTEND;TZID=Europe/Madrid;VALUE=DATE-TIME:20251027T123000
DTSTAMP;VALUE=DATE-TIME:20260421T230859Z
UID:6b8ae77bedec466bdfe1c2d930ab5968
CREATED;VALUE=DATE-TIME:20251027T000000Z
CATEGORIES:Agenda institucional
LOCATION:Sala de juntes
URL:https://www.canetdemar.cat/document.php?id=28386
END:VEVENT
END:VCALENDAR