BEGIN:VCALENDAR
VERSION:2.0
PRODID:-//Plone.org//NONSGML plone.app.event//EN
X-WR-TIMEZONE:Europe/Madrid
BEGIN:VEVENT
SUMMARY:Assistència a la Presentació llegat Comediants
DTSTART;TZID=Europe/Madrid;VALUE=DATE-TIME:20251029T100000
DTEND;TZID=Europe/Madrid;VALUE=DATE-TIME:20251029T110000
DTSTAMP;VALUE=DATE-TIME:20260424T071624Z
UID:2b69f317ec1b78fa880b88ad86117008
CREATED;VALUE=DATE-TIME:20251029T000000Z
CATEGORIES:Agenda institucional
LOCATION:Institut de Barcelona
URL:https://www.canetdemar.cat/document.php?id=28384
END:VEVENT
END:VCALENDAR