BEGIN:VCALENDAR
VERSION:2.0
PRODID:-//Plone.org//NONSGML plone.app.event//EN
X-WR-TIMEZONE:Europe/Madrid
BEGIN:VEVENT
SUMMARY:Assistència inaguració associació de jubilats
DTSTART;TZID=Europe/Madrid;VALUE=DATE-TIME:20251028T160000
DTEND;TZID=Europe/Madrid;VALUE=DATE-TIME:20251028T170000
DTSTAMP;VALUE=DATE-TIME:20260424T182925Z
UID:1a7a21cca53401573488152eb27166f9
CREATED;VALUE=DATE-TIME:20251028T000000Z
CATEGORIES:Agenda institucional
LOCATION:Sala Cultural Ramon de Capmany
URL:https://www.canetdemar.cat/document.php?id=28382
END:VEVENT
END:VCALENDAR