BEGIN:VCALENDAR
VERSION:2.0
PRODID:-//Plone.org//NONSGML plone.app.event//EN
X-WR-TIMEZONE:Europe/Madrid
BEGIN:VEVENT
SUMMARY:Reunió Telemàtica
DTSTART;TZID=Europe/Madrid;VALUE=DATE-TIME:20251028T110000
DTEND;TZID=Europe/Madrid;VALUE=DATE-TIME:20251028T120000
DTSTAMP;VALUE=DATE-TIME:20260422T003226Z
UID:d719b00f24be269355350d4aa0a07686
CREATED;VALUE=DATE-TIME:20251028T000000Z
CATEGORIES:Agenda institucional
LOCATION:Despatx de l'alcaldia
URL:https://www.canetdemar.cat/document.php?id=28381
END:VEVENT
END:VCALENDAR