BEGIN:VCALENDAR
VERSION:2.0
PRODID:-//Plone.org//NONSGML plone.app.event//EN
X-WR-TIMEZONE:Europe/Madrid
BEGIN:VEVENT
SUMMARY:Casament civil
DTSTART;TZID=Europe/Madrid;VALUE=DATE-TIME:20251025T130000
DTEND;TZID=Europe/Madrid;VALUE=DATE-TIME:20251025T140000
DTSTAMP;VALUE=DATE-TIME:20260423T033302Z
UID:8d6f41afbbc8994f3e0eaae907fbd52c
CREATED;VALUE=DATE-TIME:20251025T000000Z
CATEGORIES:Agenda institucional
LOCATION:Sala de plens
URL:https://www.canetdemar.cat/document.php?id=28376
END:VEVENT
END:VCALENDAR