BEGIN:VCALENDAR
VERSION:2.0
PRODID:-//Plone.org//NONSGML plone.app.event//EN
X-WR-TIMEZONE:Europe/Madrid
BEGIN:VEVENT
SUMMARY:Rellotge Sala d'actes
DTSTART;TZID=Europe/Madrid;VALUE=DATE-TIME:20251022T110000
DTEND;TZID=Europe/Madrid;VALUE=DATE-TIME:20251022T120000
DTSTAMP;VALUE=DATE-TIME:20260424T011815Z
UID:121383c010c04bc3fdb3dfe5063dceb7
CREATED;VALUE=DATE-TIME:20251022T000000Z
CATEGORIES:Agenda institucional
LOCATION:Sala d'actes
URL:https://www.canetdemar.cat/document.php?id=28371
END:VEVENT
END:VCALENDAR