BEGIN:VCALENDAR
VERSION:2.0
PRODID:-//Plone.org//NONSGML plone.app.event//EN
X-WR-TIMEZONE:Europe/Madrid
BEGIN:VEVENT
SUMMARY:Asssistència a la Festa Comarcal Gent Gran del Maresme
DTSTART;TZID=Europe/Madrid;VALUE=DATE-TIME:20251019T140000
DTEND;TZID=Europe/Madrid;VALUE=DATE-TIME:20251019T150000
DTSTAMP;VALUE=DATE-TIME:20260422T203547Z
UID:3f2c6111e4a77b2f5d79d0b62b79059a
CREATED;VALUE=DATE-TIME:20251019T000000Z
CATEGORIES:Agenda institucional
LOCATION:Calisay d'Arenys de Mar
URL:https://www.canetdemar.cat/document.php?id=28365
END:VEVENT
END:VCALENDAR