BEGIN:VCALENDAR
VERSION:2.0
PRODID:-//Plone.org//NONSGML plone.app.event//EN
X-WR-TIMEZONE:Europe/Madrid
BEGIN:VEVENT
SUMMARY:Reunió amb un veí de Canet
DTSTART;TZID=Europe/Madrid;VALUE=DATE-TIME:20251017T113000
DTEND;TZID=Europe/Madrid;VALUE=DATE-TIME:20251017T123000
DTSTAMP;VALUE=DATE-TIME:20260424T041053Z
UID:ad4132e1a563e7029b89b95844688c31
CREATED;VALUE=DATE-TIME:20251017T000000Z
CATEGORIES:Agenda institucional
URL:https://www.canetdemar.cat/document.php?id=28361
END:VEVENT
END:VCALENDAR