BEGIN:VCALENDAR
VERSION:2.0
PRODID:-//Plone.org//NONSGML plone.app.event//EN
X-WR-TIMEZONE:Europe/Madrid
BEGIN:VEVENT
SUMMARY:Reunió amb una veïna de Canet
DTSTART;TZID=Europe/Madrid;VALUE=DATE-TIME:20251015T110000
DTEND;TZID=Europe/Madrid;VALUE=DATE-TIME:20251015T120000
DTSTAMP;VALUE=DATE-TIME:20260422T202101Z
UID:bd6a29da0c4e25f879b217c38c57eabe
CREATED;VALUE=DATE-TIME:20251015T000000Z
CATEGORIES:Agenda institucional
LOCATION:Despatx de l'alcaldia
URL:https://www.canetdemar.cat/document.php?id=28358
END:VEVENT
END:VCALENDAR