BEGIN:VCALENDAR
VERSION:2.0
PRODID:-//Plone.org//NONSGML plone.app.event//EN
X-WR-TIMEZONE:Europe/Madrid
BEGIN:VEVENT
SUMMARY:Assistència  punt de votació dels Pressupostos Participatius
DTSTART;TZID=Europe/Madrid;VALUE=DATE-TIME:20251015T100000
DTEND;TZID=Europe/Madrid;VALUE=DATE-TIME:20251015T110000
DTSTAMP;VALUE=DATE-TIME:20260422T183418Z
UID:697dde990901ca3ad2af3ae4c59abfb0
CREATED;VALUE=DATE-TIME:20251015T000000Z
CATEGORIES:Agenda institucional
LOCATION:Mercat Municipal
URL:https://www.canetdemar.cat/document.php?id=28357
END:VEVENT
END:VCALENDAR