BEGIN:VCALENDAR
VERSION:2.0
PRODID:-//Plone.org//NONSGML plone.app.event//EN
X-WR-TIMEZONE:Europe/Madrid
BEGIN:VEVENT
SUMMARY:Assistència Fira Modernista de Reus
DTSTART;TZID=Europe/Madrid;VALUE=DATE-TIME:20251011T083000
DTEND;TZID=Europe/Madrid;VALUE=DATE-TIME:20251011T093000
DTSTAMP;VALUE=DATE-TIME:20260421T140724Z
UID:2ee9e3266449e6dfb0d8fa69dfafdde3
CREATED;VALUE=DATE-TIME:20251011T000000Z
CATEGORIES:Agenda institucional
LOCATION:Reus
URL:https://www.canetdemar.cat/document.php?id=28353
END:VEVENT
END:VCALENDAR