BEGIN:VCALENDAR
VERSION:2.0
PRODID:-//Plone.org//NONSGML plone.app.event//EN
X-WR-TIMEZONE:Europe/Madrid
BEGIN:VEVENT
SUMMARY:Reunió interna Alcaldia
DTSTART;TZID=Europe/Madrid;VALUE=DATE-TIME:20251013T093000
DTEND;TZID=Europe/Madrid;VALUE=DATE-TIME:20251013T103000
DTSTAMP;VALUE=DATE-TIME:20260424T193354Z
UID:6d76992226de867c9e16e836126e3156
CREATED;VALUE=DATE-TIME:20251013T000000Z
CATEGORIES:Agenda institucional
LOCATION:Despatx de l'alcaldia
URL:https://www.canetdemar.cat/document.php?id=28342
END:VEVENT
END:VCALENDAR