BEGIN:VCALENDAR
VERSION:2.0
PRODID:-//Plone.org//NONSGML plone.app.event//EN
X-WR-TIMEZONE:Europe/Madrid
BEGIN:VEVENT
SUMMARY:Entrevista Espai Alcadia
DTSTART;TZID=Europe/Madrid;VALUE=DATE-TIME:20251001T100000
DTEND;TZID=Europe/Madrid;VALUE=DATE-TIME:20251001T110000
DTSTAMP;VALUE=DATE-TIME:20260422T235302Z
UID:ae70af493ba0d2e14f464bc9db3196b6
CREATED;VALUE=DATE-TIME:20251001T000000Z
CATEGORIES:Agenda institucional
LOCATION:Estudis de Ràdio Canet
URL:https://www.canetdemar.cat/document.php?id=28328
END:VEVENT
END:VCALENDAR