BEGIN:VCALENDAR
VERSION:2.0
PRODID:-//Plone.org//NONSGML plone.app.event//EN
X-WR-TIMEZONE:Europe/Madrid
BEGIN:VEVENT
SUMMARY:Nit de l'esport
DTSTART;TZID=Europe/Madrid;VALUE=DATE-TIME:20251115T200000
DTEND;TZID=Europe/Madrid;VALUE=DATE-TIME:20251115T210000
DTSTAMP;VALUE=DATE-TIME:20260426T064129Z
UID:89af33d506457ca948821f912d411357
CREATED;VALUE=DATE-TIME:20251115T000000Z
CATEGORIES:Esports
LOCATION:Envelat de Vil·la Flora
ORGANIZER:Ajuntament
COMMENT:Preu: Gratuït
URL:https://www.canetdemar.cat/document.php?id=28309
END:VEVENT
END:VCALENDAR