BEGIN:VCALENDAR
VERSION:2.0
PRODID:-//Plone.org//NONSGML plone.app.event//EN
X-WR-TIMEZONE:Europe/Madrid
BEGIN:VEVENT
SUMMARY:Casament Civil
DTSTART;TZID=Europe/Madrid;VALUE=DATE-TIME:20250927T123000
DTEND;TZID=Europe/Madrid;VALUE=DATE-TIME:20250927T133000
DTSTAMP;VALUE=DATE-TIME:20260420T050204Z
UID:e5ccff07b80fcb84afa1816211425e4c
CREATED;VALUE=DATE-TIME:20250927T000000Z
CATEGORIES:Agenda institucional
LOCATION:Sala de plens
URL:https://www.canetdemar.cat/document.php?id=28115
END:VEVENT
END:VCALENDAR