BEGIN:VCALENDAR
VERSION:2.0
PRODID:-//Plone.org//NONSGML plone.app.event//EN
X-WR-TIMEZONE:Europe/Madrid
BEGIN:VEVENT
SUMMARY:Entrevista prèvia al Ple municipal
DTSTART;TZID=Europe/Madrid;VALUE=DATE-TIME:20250925T110000
DTEND;TZID=Europe/Madrid;VALUE=DATE-TIME:20250925T120000
DTSTAMP;VALUE=DATE-TIME:20260422T144130Z
UID:c99b705b99fba563d7785a9acb7a7dc0
CREATED;VALUE=DATE-TIME:20250925T000000Z
CATEGORIES:Agenda institucional
LOCATION:Estudis de Ràdio Canet
URL:https://www.canetdemar.cat/document.php?id=28112
END:VEVENT
END:VCALENDAR