BEGIN:VCALENDAR
VERSION:2.0
PRODID:-//Plone.org//NONSGML plone.app.event//EN
X-WR-TIMEZONE:Europe/Madrid
BEGIN:VEVENT
SUMMARY:Reunió amb les famílies de l'Escola Bressol Municipal El Palauet
DTSTART;TZID=Europe/Madrid;VALUE=DATE-TIME:20250923T170000
DTEND;TZID=Europe/Madrid;VALUE=DATE-TIME:20250923T180000
DTSTAMP;VALUE=DATE-TIME:20260422T111631Z
UID:0ca8a9e727bf265dc60553452141dfda
CREATED;VALUE=DATE-TIME:20250923T000000Z
CATEGORIES:Agenda institucional
LOCATION:Instal·lacions de l'EBM El Palauet
URL:https://www.canetdemar.cat/document.php?id=28110
END:VEVENT
END:VCALENDAR